BEGIN:VCALENDAR
VERSION:2.0
METHOD:PUBLISH
X-WR-CALNAME;VALUE=TEXT:
PRODID:-//Drupal iCal API//EN
BEGIN:VEVENT
UID:wfbb-event-2089
DTSTAMP:20260115T085354Z
DTSTART:20230509T073000Z
DTEND:20230512T140000Z
SUMMARY:transport logistic 2023 | Gemeinschaftsstand Berlin-Brandenburg
DESCRIPTION:Internationale Leitmesse für Logistik, Mobilität, IT und Supply-Chain-Management

Die gesamte logistische Wertschöpfungskette in einer Messe vereint: Das macht die transport logistic weltweit einzigartig und zu einer idealen Plattform für neue Geschäfte und intensives Networking. Im Rahmen der transport logistic findet auch die air cargo Europe - die weltweit größte Veranstaltung für die Luftfrachtbranche - statt. Auch die Besucherstruktur stimmt: 2019 besuchten fast 64.000 Besuchenden aus 125 Ländern die transport logistic und air cargo Europe. Drei Tage Wissenstransfer, Networking und fachlicher Austausch - die transport logistic Online erwies sich im Mai 2021 als wertvolle Informationsdrehscheibe für die Branche. Mit 8.500 Teilnehmenden und 87 Konferenzbeiträgen mit Vorträgen und Diskussionsrunden kompensierte die Online-Veranstaltung die coronabedingte Absage der transport logistic 2021.

Gemeinschaftsstand Berlin-Brandenburg, Halle B4, Stand Nr. 317/418/419
LOCATION:
URL:https://transportlogistic.de/de/besucher/besuch-vorbereiten/tickets/
END:VEVENT
END:VCALENDAR
