BEGIN:VCALENDAR
VERSION:2.0
METHOD:PUBLISH
X-WR-CALNAME;VALUE=TEXT:
PRODID:-//Drupal iCal API//EN
BEGIN:VEVENT
UID:wfbb-event-2052
DTSTAMP:20240913T114147Z
DTSTART:20210421T130000Z
DTEND:20210421T143000Z
SUMMARY:Online-Workshop „Interkulturelle Kompetenz“
DESCRIPTION:Mit China kommunizieren: Workshop zur Steigerung des kulturellen Bewusstseins
LOCATION:online
URL:https://us02web.zoom.us/meeting/register/tZ0kd-2qqT8pGNEMN2uhoxR6mzPBgVyPxGOg
END:VEVENT
END:VCALENDAR
