BEGIN:VCALENDAR
VERSION:2.0
METHOD:PUBLISH
X-WR-CALNAME;VALUE=TEXT:
PRODID:-//Drupal iCal API//EN
BEGIN:VEVENT
UID:wfbb-event-1986
DTSTAMP:20240913T114147Z
DTSTART:20210423T090000Z
DTEND:20210423T130000Z
SUMMARY:Digitale Clusterkonferenz VML 2021
DESCRIPTION:Unter dem Motto „Mit Nachhaltigkeit und Innovationen die Krise bewältigen" findet die in diesem Jahr digitale Clusterkonferenz des Bereichs Verkehr, Mobilität, Logistik statt.
LOCATION:online
URL:
END:VEVENT
END:VCALENDAR
