BEGIN:VCALENDAR
VERSION:2.0
METHOD:PUBLISH
X-WR-CALNAME;VALUE=TEXT:
PRODID:-//Drupal iCal API//EN
BEGIN:VEVENT
UID:wfbb-event-1594
DTSTAMP:20240913T114147Z
DTSTART:20201126T090000Z
DTEND:20201126T120000Z
SUMMARY:Sektorenkopplung | Digitale Energie- und Verkehrswende
DESCRIPTION:Eine gemeinsame Veranstaltung des Clusters Energietechnik, des Clusters IKT, Medien und Kreativwirtschaft und des Clusters Verkehr, Mobilität und Logistik sowie der Berliner Agentur für Elektromobilität und THE DRIVERY.
LOCATION:online
URL:https://www.berlin-partner.de/landingpages/barcamps/barcamp-sektorenkopplung-digitale-energie-und-verkehrswende/anmeldung/
END:VEVENT
END:VCALENDAR
