BEGIN:VCALENDAR
VERSION:2.0
METHOD:PUBLISH
X-WR-CALNAME;VALUE=TEXT:
PRODID:-//Drupal iCal API//EN
BEGIN:VEVENT
UID:wfbb-event-1269
DTSTAMP:20241118T145951Z
DTSTART:20201117T230000Z
DTEND:20201119T230000Z
SUMMARY:Smart Manufacturing Matchmaking 2020
DESCRIPTION:Vernetzen Sie sich mit internationalen Geschäfts- und Projektpartnern auf der digitalen Kooperationsbörse zum Thema Smart Manufacturing und Industrie 4.0.
LOCATION:online
URL:https://smm2020.b2match.io/signup
END:VEVENT
END:VCALENDAR
