BEGIN:VCALENDAR
VERSION:2.0
METHOD:PUBLISH
X-WR-CALNAME;VALUE=TEXT:
PRODID:-//Drupal iCal API//EN
BEGIN:VEVENT
UID:wfbb-event-1190
DTSTAMP:20240913T114147Z
DTSTART:20201119T130000Z
DTEND:20201119T163000Z
SUMMARY:11. Tagung Mobilitätsmanagement von Morgen
DESCRIPTION:Bei der gemeinsamen Tagung von DLR und Berlin Partner steht in diesem Jahr das Thema „Hubs und Stationen" im Fokus und wird an Beispielen näher betrachtet.
LOCATION:online
URL:
END:VEVENT
END:VCALENDAR
