BEGIN:VCALENDAR
VERSION:2.0
METHOD:PUBLISH
X-WR-CALNAME;VALUE=TEXT:
PRODID:-//Drupal iCal API//EN
BEGIN:VEVENT
UID:wfbb-event-1184
DTSTAMP:20240913T114147Z
DTSTART:20201005T080000Z
DTEND:20201008T150000Z
SUMMARY:Photonics Days
DESCRIPTION:Die Photonics Days Berlin Brandenburg 2020 bieten Online-Seminare zu spannenden Themen mit über 100 nationalen und internationalen Referenten.
LOCATION:online
URL:https://photonics-days-berlin-brandenburg-2020.b2match.io/home
END:VEVENT
END:VCALENDAR
