BEGIN:VCALENDAR
VERSION:2.0
METHOD:PUBLISH
X-WR-CALNAME;VALUE=TEXT:
PRODID:-//Drupal iCal API//EN
BEGIN:VEVENT
UID:wfbb-event-1169
DTSTAMP:20240913T114147Z
DTSTART:20200902T220000Z
DTEND:20200903T220000Z
SUMMARY:SHIFT Mobility 2020
DESCRIPTION:Die Zukunft der Mobilität mitgestalten auf der SHIFT Mobility 2020! Jetzt Tickets buchen!
LOCATION:CityCube Berlin Messedamm 26 14055 Berlin
URL:https://shift.messeticket.berlin/
END:VEVENT
END:VCALENDAR
