BEGIN:VCALENDAR
VERSION:2.0
METHOD:PUBLISH
X-WR-CALNAME;VALUE=TEXT:
PRODID:-//Drupal iCal API//EN
BEGIN:VEVENT
UID:wfbb-event-1151
DTSTAMP:20240913T114147Z
DTSTART:20200831T220000Z
DTEND:20200908T220000Z
SUMMARY:IFA MEET &amp; MATCH 2020
DESCRIPTION:Die Internationale Funkausstellung (IFA) ist die weltweit größte Messe für Consumer Electronics und Home Appliances. Dieses Jahr liegt der Fokus auf: IoT, 5G, Smart Living, Mixed Reality, KI, Robotik, Smart Mobility und digitale Gesundheit.
LOCATION:Online 00000 Virtuell
URL:https://ifa2020.b2match.io/page-2841
END:VEVENT
END:VCALENDAR
